Package: frmaTools Version: 1.58.0 Command: /Library/Frameworks/R.framework/Resources/bin/R CMD build --keep-empty-dirs --no-resave-data frmaTools StartedAt: 2025-02-03 23:49:59 -0500 (Mon, 03 Feb 2025) EndedAt: 2025-02-03 23:50:23 -0500 (Mon, 03 Feb 2025) EllapsedTime: 24.0 seconds RetCode: 0 Status: OK PackageFile: frmaTools_1.58.0.tar.gz PackageFileSize: 157.9 KiB