Package: frmaTools Version: 1.58.0 Command: /home/biocbuild/bbs-3.20-bioc/R/bin/R CMD INSTALL frmaTools StartedAt: 2025-01-30 15:06:44 -0500 (Thu, 30 Jan 2025) EndedAt: 2025-01-30 15:06:51 -0500 (Thu, 30 Jan 2025) EllapsedTime: 7.4 seconds RetCode: 0 Status: OK