Package: frmaTools Version: 1.58.0 Command: chmod a+r frmaTools -R && F:\biocbuild\bbs-3.20-bioc\R\bin\R.exe CMD build --keep-empty-dirs --no-resave-data frmaTools StartedAt: 2025-02-03 19:16:47 -0500 (Mon, 03 Feb 2025) EndedAt: 2025-02-03 19:17:09 -0500 (Mon, 03 Feb 2025) EllapsedTime: 22.7 seconds RetCode: 0 Status: OK PackageFile: frmaTools_1.58.0.tar.gz PackageFileSize: 75.17 KiB