Package: frmaTools Version: 1.58.0 Command: F:\biocbuild\bbs-3.20-bioc\R\bin\R.exe CMD check --no-multiarch --install=check:frmaTools.install-out.txt --library=F:\biocbuild\bbs-3.20-bioc\R\library --no-vignettes --timings frmaTools_1.58.0.tar.gz StartedAt: 2025-02-04 01:57:44 -0500 (Tue, 04 Feb 2025) EndedAt: 2025-02-04 01:58:33 -0500 (Tue, 04 Feb 2025) EllapsedTime: 48.5 seconds RetCode: 0 Status: OK CheckDir: frmaTools.Rcheck Warnings: 0