Package: frmaTools Version: 1.58.0 Command: /home/biocbuild/R/R/bin/R CMD check --install=check:frmaTools.install-out.txt --library=/home/biocbuild/R/R/site-library --no-vignettes --timings frmaTools_1.58.0.tar.gz StartedAt: 2025-02-04 07:06:59 -0000 (Tue, 04 Feb 2025) EndedAt: 2025-02-04 07:07:36 -0000 (Tue, 04 Feb 2025) EllapsedTime: 37.1 seconds RetCode: 0 Status: OK CheckDir: frmaTools.Rcheck Warnings: 0