Package: frmaTools Version: 1.58.0 Command: /home/biocbuild/R/R/bin/R CMD INSTALL frmaTools StartedAt: 2025-02-03 20:24:30 -0000 (Mon, 03 Feb 2025) EndedAt: 2025-02-03 20:25:00 -0000 (Mon, 03 Feb 2025) EllapsedTime: 30.4 seconds RetCode: 0 Status: OK