Package: funtooNorm Version: 1.30.0 Command: /home/biocbuild/R/R/bin/R CMD build --keep-empty-dirs --no-resave-data funtooNorm StartedAt: 2025-02-10 23:32:24 -0000 (Mon, 10 Feb 2025) EndedAt: 2025-02-10 23:32:25 -0000 (Mon, 10 Feb 2025) EllapsedTime: 1.0 seconds RetCode: 0 Status: OK PackageFile: funtooNorm_1.30.0.tar.gz PackageFileSize: 2.458 MiB