Package: funtooNorm Version: 1.30.0 Command: /home/biocbuild/R/R/bin/R CMD INSTALL funtooNorm StartedAt: 2025-02-03 21:19:59 -0000 (Mon, 03 Feb 2025) EndedAt: 2025-02-03 21:20:54 -0000 (Mon, 03 Feb 2025) EllapsedTime: 54.9 seconds RetCode: 0 Status: OK