Package: gCrisprTools Version: 2.12.0 Command: /Library/Frameworks/R.framework/Resources/bin/R CMD INSTALL gCrisprTools StartedAt: 2025-02-03 16:31:52 -0500 (Mon, 03 Feb 2025) EndedAt: 2025-02-03 16:32:22 -0500 (Mon, 03 Feb 2025) EllapsedTime: 30.2 seconds RetCode: 0 Status: OK