Package: gCrisprTools Version: 2.12.0 Command: rm -rf gCrisprTools.buildbin-libdir && mkdir gCrisprTools.buildbin-libdir && /Users/biocbuild/BBS/utils/build-universal.sh gCrisprTools_2.12.0.tar.gz /Library/Frameworks/R.framework/Resources/bin/R gCrisprTools.buildbin-libdir StartedAt: 2025-02-04 12:58:58 -0500 (Tue, 04 Feb 2025) EndedAt: 2025-02-04 13:00:01 -0500 (Tue, 04 Feb 2025) EllapsedTime: 63.2 seconds RetCode: 0 Status: OK PackageFile: gCrisprTools_2.12.0.tgz PackageFileSize: 4.947 MiB