Package: gCrisprTools Version: 2.12.0 Command: /home/biocbuild/bbs-3.20-bioc/R/bin/R CMD build --keep-empty-dirs --no-resave-data --md5 gCrisprTools StartedAt: 2025-02-03 17:29:41 -0500 (Mon, 03 Feb 2025) EndedAt: 2025-02-03 17:32:49 -0500 (Mon, 03 Feb 2025) EllapsedTime: 187.3 seconds RetCode: 0 Status: OK PackageFile: gCrisprTools_2.12.0.tar.gz PackageFileSize: 4.395 MiB