Package: gCrisprTools Version: 2.12.0 Command: F:\biocbuild\bbs-3.20-bioc\R\bin\R.exe CMD INSTALL gCrisprTools StartedAt: 2025-02-03 16:22:13 -0500 (Mon, 03 Feb 2025) EndedAt: 2025-02-03 16:23:22 -0500 (Mon, 03 Feb 2025) EllapsedTime: 69.1 seconds RetCode: 0 Status: OK