Package: gDNAx Version: 1.4.1 Command: /Library/Frameworks/R.framework/Resources/bin/R CMD INSTALL gDNAx StartedAt: 2025-02-03 16:05:36 -0500 (Mon, 03 Feb 2025) EndedAt: 2025-02-03 16:06:28 -0500 (Mon, 03 Feb 2025) EllapsedTime: 52.8 seconds RetCode: 0 Status: OK