Package: gDNAx Version: 1.4.1 Command: /Library/Frameworks/R.framework/Resources/bin/R CMD check --install=check:gDNAx.install-out.txt --library=/Library/Frameworks/R.framework/Resources/library --no-vignettes --timings gDNAx_1.4.1.tar.gz StartedAt: 2025-02-04 03:58:24 -0500 (Tue, 04 Feb 2025) EndedAt: 2025-02-04 04:25:05 -0500 (Tue, 04 Feb 2025) EllapsedTime: 1601.3 seconds RetCode: 0 Status: OK CheckDir: gDNAx.Rcheck Warnings: 0