Package: gDNAx Version: 1.4.1 Command: /home/biocbuild/bbs-3.20-bioc/R/bin/R CMD build --keep-empty-dirs --no-resave-data --md5 gDNAx StartedAt: 2025-02-03 17:29:57 -0500 (Mon, 03 Feb 2025) EndedAt: 2025-02-03 17:33:10 -0500 (Mon, 03 Feb 2025) EllapsedTime: 192.3 seconds RetCode: 0 Status: OK PackageFile: gDNAx_1.4.1.tar.gz PackageFileSize: 737 KiB