Package: gDNAx Version: 1.4.1 Command: /home/biocbuild/bbs-3.20-bioc/R/bin/R CMD INSTALL gDNAx StartedAt: 2025-02-03 15:34:15 -0500 (Mon, 03 Feb 2025) EndedAt: 2025-02-03 15:35:02 -0500 (Mon, 03 Feb 2025) EllapsedTime: 46.9 seconds RetCode: 0 Status: OK