Package: gDNAx Version: 1.4.1 Command: rm -rf gDNAx.buildbin-libdir && mkdir gDNAx.buildbin-libdir && F:\biocbuild\bbs-3.20-bioc\R\bin\R.exe CMD INSTALL --build --library=gDNAx.buildbin-libdir gDNAx_1.4.1.tar.gz StartedAt: 2025-02-04 08:32:15 -0500 (Tue, 04 Feb 2025) EndedAt: 2025-02-04 08:33:18 -0500 (Tue, 04 Feb 2025) EllapsedTime: 63.2 seconds RetCode: 0 Status: OK PackageFile: gDNAx_1.4.1.zip PackageFileSize: 953.7 KiB