Package: gDNAx Version: 1.4.1 Command: chmod a+r gDNAx -R && F:\biocbuild\bbs-3.20-bioc\R\bin\R.exe CMD build --keep-empty-dirs --no-resave-data gDNAx StartedAt: 2025-02-03 19:19:06 -0500 (Mon, 03 Feb 2025) EndedAt: 2025-02-03 19:24:12 -0500 (Mon, 03 Feb 2025) EllapsedTime: 305.6 seconds RetCode: 0 Status: OK PackageFile: gDNAx_1.4.1.tar.gz PackageFileSize: 561.6 KiB