Package: gDNAx Version: 1.4.1 Command: F:\biocbuild\bbs-3.20-bioc\R\bin\R.exe CMD check --no-multiarch --install=check:gDNAx.install-out.txt --library=F:\biocbuild\bbs-3.20-bioc\R\library --no-vignettes --timings gDNAx_1.4.1.tar.gz StartedAt: 2025-02-11 01:55:07 -0500 (Tue, 11 Feb 2025) EndedAt: 2025-02-11 02:11:36 -0500 (Tue, 11 Feb 2025) EllapsedTime: 989.3 seconds RetCode: 0 Status: OK CheckDir: gDNAx.Rcheck Warnings: 0