Package: gDNAx Version: 1.4.1 Command: /home/biocbuild/R/R/bin/R CMD build --keep-empty-dirs --no-resave-data gDNAx StartedAt: 2025-02-03 23:44:15 -0000 (Mon, 03 Feb 2025) EndedAt: 2025-02-03 23:48:29 -0000 (Mon, 03 Feb 2025) EllapsedTime: 254.1 seconds RetCode: 0 Status: OK PackageFile: gDNAx_1.4.1.tar.gz PackageFileSize: 651.1 KiB