Package: gDNAx Version: 1.4.1 Command: /home/biocbuild/R/R/bin/R CMD check --install=check:gDNAx.install-out.txt --library=/home/biocbuild/R/R/site-library --no-vignettes --timings gDNAx_1.4.1.tar.gz StartedAt: 2025-02-04 07:10:12 -0000 (Tue, 04 Feb 2025) EndedAt: 2025-02-04 07:27:50 -0000 (Tue, 04 Feb 2025) EllapsedTime: 1057.8 seconds RetCode: 0 Status: OK CheckDir: gDNAx.Rcheck Warnings: 0