Package: gDNAx Version: 1.4.1 Command: /home/biocbuild/R/R/bin/R CMD INSTALL gDNAx StartedAt: 2025-02-03 20:44:34 -0000 (Mon, 03 Feb 2025) EndedAt: 2025-02-03 20:45:29 -0000 (Mon, 03 Feb 2025) EllapsedTime: 55.3 seconds RetCode: 0 Status: OK