Package: gDRcore Version: 1.4.0 Command: rm -rf gDRcore.buildbin-libdir && mkdir gDRcore.buildbin-libdir && /Users/biocbuild/BBS/utils/build-universal.sh gDRcore_1.4.0.tar.gz /Library/Frameworks/R.framework/Resources/bin/R gDRcore.buildbin-libdir StartedAt: 2025-02-05 15:56:24 -0500 (Wed, 05 Feb 2025) EndedAt: 2025-02-05 15:56:44 -0500 (Wed, 05 Feb 2025) EllapsedTime: 20.6 seconds RetCode: 0 Status: OK PackageFile: gDRcore_1.4.0.tgz PackageFileSize: 1.278 MiB