Package: gDRcore Version: 1.4.0 Command: /Library/Frameworks/R.framework/Resources/bin/R CMD build --keep-empty-dirs --no-resave-data gDRcore StartedAt: 2025-02-04 00:00:29 -0500 (Tue, 04 Feb 2025) EndedAt: 2025-02-04 00:01:21 -0500 (Tue, 04 Feb 2025) EllapsedTime: 51.3 seconds RetCode: 0 Status: OK PackageFile: gDRcore_1.4.0.tar.gz PackageFileSize: 1.09 MiB