Package: gDRcore Version: 1.4.0 Command: /Library/Frameworks/R.framework/Resources/bin/R CMD build --keep-empty-dirs --no-resave-data gDRcore StartedAt: 2025-02-03 19:04:26 -0500 (Mon, 03 Feb 2025) EndedAt: 2025-02-03 19:06:00 -0500 (Mon, 03 Feb 2025) EllapsedTime: 93.2 seconds RetCode: 0 Status: OK PackageFile: gDRcore_1.4.0.tar.gz PackageFileSize: 1.09 MiB