Package: gDRcore Version: 1.4.0 Command: /home/biocbuild/bbs-3.20-bioc/R/bin/R CMD INSTALL gDRcore StartedAt: 2025-02-03 15:53:52 -0500 (Mon, 03 Feb 2025) EndedAt: 2025-02-03 15:54:07 -0500 (Mon, 03 Feb 2025) EllapsedTime: 15.7 seconds RetCode: 0 Status: OK