Package: gDRcore Version: 1.4.0 Command: /home/biocbuild/R/R/bin/R CMD build --keep-empty-dirs --no-resave-data gDRcore StartedAt: 2025-02-03 23:45:06 -0000 (Mon, 03 Feb 2025) EndedAt: 2025-02-03 23:46:04 -0000 (Mon, 03 Feb 2025) EllapsedTime: 58.0 seconds RetCode: 0 Status: OK PackageFile: gDRcore_1.4.0.tar.gz PackageFileSize: 1.162 MiB