Package: gDRimport Version: 1.4.0 Command: /Library/Frameworks/R.framework/Resources/bin/R CMD INSTALL gDRimport StartedAt: 2025-02-03 17:57:47 -0500 (Mon, 03 Feb 2025) EndedAt: 2025-02-03 17:58:14 -0500 (Mon, 03 Feb 2025) EllapsedTime: 27.8 seconds RetCode: 0 Status: OK