Package: gDRimport Version: 1.4.0 Command: rm -rf gDRimport.buildbin-libdir && mkdir gDRimport.buildbin-libdir && /Users/biocbuild/BBS/utils/build-universal.sh gDRimport_1.4.0.tar.gz /Library/Frameworks/R.framework/Resources/bin/R gDRimport.buildbin-libdir StartedAt: 2025-02-04 12:59:08 -0500 (Tue, 04 Feb 2025) EndedAt: 2025-02-04 13:00:05 -0500 (Tue, 04 Feb 2025) EllapsedTime: 57.5 seconds RetCode: 0 Status: OK PackageFile: gDRimport_1.4.0.tgz PackageFileSize: 3.321 MiB