Package: gDRimport Version: 1.4.0 Command: /Library/Frameworks/R.framework/Resources/bin/R CMD check --install=check:gDRimport.install-out.txt --library=/Library/Frameworks/R.framework/Resources/library --no-vignettes --timings gDRimport_1.4.0.tar.gz StartedAt: 2025-02-04 03:59:14 -0500 (Tue, 04 Feb 2025) EndedAt: 2025-02-04 04:05:53 -0500 (Tue, 04 Feb 2025) EllapsedTime: 399.1 seconds RetCode: 0 Status: OK CheckDir: gDRimport.Rcheck Warnings: 0