Package: gDRimport Version: 1.4.0 Command: rm -rf gDRimport.buildbin-libdir && mkdir gDRimport.buildbin-libdir && F:\biocbuild\bbs-3.20-bioc\R\bin\R.exe CMD INSTALL --build --library=gDRimport.buildbin-libdir gDRimport_1.4.0.tar.gz StartedAt: 2025-02-04 08:32:22 -0500 (Tue, 04 Feb 2025) EndedAt: 2025-02-04 08:33:37 -0500 (Tue, 04 Feb 2025) EllapsedTime: 75.1 seconds RetCode: 0 Status: OK PackageFile: gDRimport_1.4.0.zip PackageFileSize: 3.461 MiB