Package: gDRimport Version: 1.4.0 Command: /home/biocbuild/R/R/bin/R CMD build --keep-empty-dirs --no-resave-data gDRimport StartedAt: 2025-02-10 23:35:31 -0000 (Mon, 10 Feb 2025) EndedAt: 2025-02-10 23:36:31 -0000 (Mon, 10 Feb 2025) EllapsedTime: 60.0 seconds RetCode: 0 Status: OK PackageFile: gDRimport_1.4.0.tar.gz PackageFileSize: 3.034 MiB