Package: gDRimport Version: 1.4.0 Command: /home/biocbuild/R/R/bin/R CMD check --install=check:gDRimport.install-out.txt --library=/home/biocbuild/R/R/site-library --no-vignettes --timings gDRimport_1.4.0.tar.gz StartedAt: 2025-02-04 07:10:53 -0000 (Tue, 04 Feb 2025) EndedAt: 2025-02-04 07:14:34 -0000 (Tue, 04 Feb 2025) EllapsedTime: 221.2 seconds RetCode: 0 Status: OK CheckDir: gDRimport.Rcheck Warnings: 0