Package: gDRimport Version: 1.4.0 Command: /home/biocbuild/R/R/bin/R CMD INSTALL gDRimport StartedAt: 2025-02-03 21:18:58 -0000 (Mon, 03 Feb 2025) EndedAt: 2025-02-03 21:19:29 -0000 (Mon, 03 Feb 2025) EllapsedTime: 30.8 seconds RetCode: 0 Status: OK