Package: gDRutils Version: 1.4.0 Command: rm -rf gDRutils.buildbin-libdir && mkdir gDRutils.buildbin-libdir && /Users/biocbuild/BBS/utils/build-universal.sh gDRutils_1.4.0.tar.gz /Library/Frameworks/R.framework/Resources/bin/R gDRutils.buildbin-libdir StartedAt: 2025-02-12 15:10:36 -0500 (Wed, 12 Feb 2025) EndedAt: 2025-02-12 15:11:05 -0500 (Wed, 12 Feb 2025) EllapsedTime: 29.5 seconds RetCode: 0 Status: OK PackageFile: gDRutils_1.4.0.tgz PackageFileSize: 618.3 KiB