Package: gDRutils Version: 1.4.0 Command: /Library/Frameworks/R.framework/Resources/bin/R CMD build --keep-empty-dirs --no-resave-data gDRutils StartedAt: 2025-02-04 00:01:16 -0500 (Tue, 04 Feb 2025) EndedAt: 2025-02-04 00:01:59 -0500 (Tue, 04 Feb 2025) EllapsedTime: 43.2 seconds RetCode: 0 Status: OK PackageFile: gDRutils_1.4.0.tar.gz PackageFileSize: 322.5 KiB