Package: gDRutils Version: 1.4.0 Command: /Library/Frameworks/R.framework/Resources/bin/R CMD check --install=check:gDRutils.install-out.txt --library=/Library/Frameworks/R.framework/Resources/library --no-vignettes --timings gDRutils_1.4.0.tar.gz StartedAt: 2025-02-04 04:00:03 -0500 (Tue, 04 Feb 2025) EndedAt: 2025-02-04 04:07:31 -0500 (Tue, 04 Feb 2025) EllapsedTime: 447.5 seconds RetCode: 0 Status: OK CheckDir: gDRutils.Rcheck Warnings: 0