Package: gDRutils Version: 1.4.0 Command: /Library/Frameworks/R.framework/Resources/bin/R CMD INSTALL gDRutils StartedAt: 2025-02-03 16:22:35 -0500 (Mon, 03 Feb 2025) EndedAt: 2025-02-03 16:23:25 -0500 (Mon, 03 Feb 2025) EllapsedTime: 49.4 seconds RetCode: 0 Status: OK