Package: gDRutils Version: 1.4.0 Command: /home/biocbuild/bbs-3.20-bioc/R/bin/R CMD build --keep-empty-dirs --no-resave-data --md5 gDRutils StartedAt: 2025-02-03 17:30:15 -0500 (Mon, 03 Feb 2025) EndedAt: 2025-02-03 17:30:46 -0500 (Mon, 03 Feb 2025) EllapsedTime: 31.0 seconds RetCode: 0 Status: OK PackageFile: gDRutils_1.4.0.tar.gz PackageFileSize: 328.4 KiB