Package: gDRutils Version: 1.4.0 Command: /home/biocbuild/bbs-3.20-bioc/R/bin/R CMD check --install=check:gDRutils.install-out.txt --library=/home/biocbuild/bbs-3.20-bioc/R/site-library --timings gDRutils_1.4.0.tar.gz StartedAt: 2025-02-03 22:33:54 -0500 (Mon, 03 Feb 2025) EndedAt: 2025-02-03 22:37:27 -0500 (Mon, 03 Feb 2025) EllapsedTime: 212.2 seconds RetCode: 0 Status: OK CheckDir: gDRutils.Rcheck Warnings: 0