Package: gDRutils Version: 1.4.0 Command: chmod a+r gDRutils -R && F:\biocbuild\bbs-3.20-bioc\R\bin\R.exe CMD build --keep-empty-dirs --no-resave-data gDRutils StartedAt: 2025-02-03 19:20:05 -0500 (Mon, 03 Feb 2025) EndedAt: 2025-02-03 19:21:17 -0500 (Mon, 03 Feb 2025) EllapsedTime: 71.4 seconds RetCode: 0 Status: OK PackageFile: gDRutils_1.4.0.tar.gz PackageFileSize: 322.6 KiB