Package: gDRutils Version: 1.4.0 Command: /home/biocbuild/R/R/bin/R CMD build --keep-empty-dirs --no-resave-data gDRutils StartedAt: 2025-02-03 23:45:23 -0000 (Mon, 03 Feb 2025) EndedAt: 2025-02-03 23:46:05 -0000 (Mon, 03 Feb 2025) EllapsedTime: 42.0 seconds RetCode: 0 Status: OK PackageFile: gDRutils_1.4.0.tar.gz PackageFileSize: 346.8 KiB