Package: gDRutils Version: 1.4.0 Command: /home/biocbuild/R/R/bin/R CMD check --install=check:gDRutils.install-out.txt --library=/home/biocbuild/R/R/site-library --no-vignettes --timings gDRutils_1.4.0.tar.gz StartedAt: 2025-02-04 07:11:38 -0000 (Tue, 04 Feb 2025) EndedAt: 2025-02-04 07:15:55 -0000 (Tue, 04 Feb 2025) EllapsedTime: 257.2 seconds RetCode: 0 Status: OK CheckDir: gDRutils.Rcheck Warnings: 0