Package: gDRutils Version: 1.4.0 Command: /home/biocbuild/R/R/bin/R CMD INSTALL gDRutils StartedAt: 2025-02-03 21:07:53 -0000 (Mon, 03 Feb 2025) EndedAt: 2025-02-03 21:08:20 -0000 (Mon, 03 Feb 2025) EllapsedTime: 27.5 seconds RetCode: 0 Status: OK