Package: gaga Version: 2.52.0 Command: /Library/Frameworks/R.framework/Resources/bin/R CMD check --install=check:gaga.install-out.txt --library=/Library/Frameworks/R.framework/Resources/library --no-vignettes --timings gaga_2.52.0.tar.gz StartedAt: 2025-02-04 20:15:47 -0500 (Tue, 04 Feb 2025) EndedAt: 2025-02-04 20:16:50 -0500 (Tue, 04 Feb 2025) EllapsedTime: 62.8 seconds RetCode: 0 Status: WARNINGS CheckDir: gaga.Rcheck Warnings: 1