Package: gaga Version: 2.52.0 Command: /Library/Frameworks/R.framework/Resources/bin/R CMD INSTALL gaga StartedAt: 2025-02-03 15:18:50 -0500 (Mon, 03 Feb 2025) EndedAt: 2025-02-03 15:19:16 -0500 (Mon, 03 Feb 2025) EllapsedTime: 26.0 seconds RetCode: 0 Status: OK