Package: gaga Version: 2.52.0 Command: chmod a+r gaga -R && F:\biocbuild\bbs-3.20-bioc\R\bin\R.exe CMD build --keep-empty-dirs --no-resave-data gaga StartedAt: 2025-02-03 19:17:10 -0500 (Mon, 03 Feb 2025) EndedAt: 2025-02-03 19:17:51 -0500 (Mon, 03 Feb 2025) EllapsedTime: 40.5 seconds RetCode: 0 Status: OK PackageFile: gaga_2.52.0.tar.gz PackageFileSize: 434 KiB