Package: gage Version: 2.56.0 Command: /Library/Frameworks/R.framework/Resources/bin/R CMD build --keep-empty-dirs --no-resave-data gage StartedAt: 2025-02-03 23:52:50 -0500 (Mon, 03 Feb 2025) EndedAt: 2025-02-03 23:55:58 -0500 (Mon, 03 Feb 2025) EllapsedTime: 188.1 seconds RetCode: 0 Status: OK PackageFile: gage_2.56.0.tar.gz PackageFileSize: 4.282 MiB