Package: gage Version: 2.56.0 Command: /Library/Frameworks/R.framework/Resources/bin/R CMD check --install=check:gage.install-out.txt --library=/Library/Frameworks/R.framework/Resources/library --no-vignettes --timings gage_2.56.0.tar.gz StartedAt: 2025-02-04 20:16:50 -0500 (Tue, 04 Feb 2025) EndedAt: 2025-02-04 20:18:58 -0500 (Tue, 04 Feb 2025) EllapsedTime: 128.0 seconds RetCode: 0 Status: WARNINGS CheckDir: gage.Rcheck Warnings: 1