Package: gage Version: 2.56.0 Command: /Library/Frameworks/R.framework/Resources/bin/R CMD INSTALL gage StartedAt: 2025-01-30 15:30:43 -0500 (Thu, 30 Jan 2025) EndedAt: 2025-01-30 15:31:17 -0500 (Thu, 30 Jan 2025) EllapsedTime: 33.6 seconds RetCode: 0 Status: OK